BEGIN:VCALENDAR
VERSION:2.0
PRODID:-//Dome Conservancy - ECPv6.15.15//NONSGML v1.0//EN
CALSCALE:GREGORIAN
METHOD:PUBLISH
X-ORIGINAL-URL:https://www.dome-conservancy.co.za
X-WR-CALDESC:Events for Dome Conservancy
REFRESH-INTERVAL;VALUE=DURATION:PT1H
X-Robots-Tag:noindex
X-PUBLISHED-TTL:PT1H
BEGIN:VTIMEZONE
TZID:Africa/Johannesburg
BEGIN:STANDARD
TZOFFSETFROM:+0200
TZOFFSETTO:+0200
TZNAME:SAST
DTSTART:20240101T000000
END:STANDARD
END:VTIMEZONE
BEGIN:VEVENT
DTSTART;TZID=Africa/Johannesburg:20251023T180000
DTEND;TZID=Africa/Johannesburg:20251023T210000
DTSTAMP:20260424T120609
CREATED:20251022T085438Z
LAST-MODIFIED:20251022T100356Z
UID:1212-1761242400-1761253200@www.dome-conservancy.co.za
SUMMARY:ANNUAL GENERAL MEETING 2025
DESCRIPTION:Vredefort Dome Conservancy AGM2025
URL:https://www.dome-conservancy.co.za/event/jaarvergadering/
LOCATION:Kiepersol Country Retreat\, Kiepersol Country Retreat\, Venterskroon\, Northwest\, South Africa
CATEGORIES:Members Meeting
END:VEVENT
END:VCALENDAR